BEGIN:VCALENDAR
VERSION:2.0
PRODID:-//Health + Community Care Workforce Sector Council - ECPv6.15.20//NONSGML v1.0//EN
CALSCALE:GREGORIAN
METHOD:PUBLISH
X-ORIGINAL-URL:https://hccwsc.ca
X-WR-CALDESC:Events for Health + Community Care Workforce Sector Council
REFRESH-INTERVAL;VALUE=DURATION:PT1H
X-Robots-Tag:noindex
X-PUBLISHED-TTL:PT1H
BEGIN:VTIMEZONE
TZID:America/Halifax
BEGIN:DAYLIGHT
TZOFFSETFROM:-0400
TZOFFSETTO:-0300
TZNAME:ADT
DTSTART:20240310T060000
END:DAYLIGHT
BEGIN:STANDARD
TZOFFSETFROM:-0300
TZOFFSETTO:-0400
TZNAME:AST
DTSTART:20241103T050000
END:STANDARD
BEGIN:DAYLIGHT
TZOFFSETFROM:-0400
TZOFFSETTO:-0300
TZNAME:ADT
DTSTART:20250309T060000
END:DAYLIGHT
BEGIN:STANDARD
TZOFFSETFROM:-0300
TZOFFSETTO:-0400
TZNAME:AST
DTSTART:20251102T050000
END:STANDARD
BEGIN:DAYLIGHT
TZOFFSETFROM:-0400
TZOFFSETTO:-0300
TZNAME:ADT
DTSTART:20260308T060000
END:DAYLIGHT
BEGIN:STANDARD
TZOFFSETFROM:-0300
TZOFFSETTO:-0400
TZNAME:AST
DTSTART:20261101T050000
END:STANDARD
END:VTIMEZONE
BEGIN:VEVENT
DTSTART;TZID=America/Halifax:20251202T093000
DTEND;TZID=America/Halifax:20251202T150000
DTSTAMP:20260424T193208
CREATED:20250929T223323Z
LAST-MODIFIED:20251003T171921Z
UID:2340-1764667800-1764687600@hccwsc.ca
SUMMARY:The Working Mind (TWM) – Employee Program
DESCRIPTION:Important: Before completing your registration for this course\, please ensure you have obtained approval from your immediate supervisor. By proceeding with the registration\, you confirm that you have secured the necessary authorization. \nThe Working Mind (TWM) training is an evidence-based mental health program administered by Opening Minds\, a subsidiary of the Mental Health Commission of Canada. You can view the Opening Minds website here. \nThe overall goal of the training is to help decrease stigma\, build resiliency and encourage healthy conversations about mental well-being in Canadian workplaces. We offer both the Employee and the Manager/People Leader versions of the program. Manager – one\, 7 hour session; Employees – 5.5 hour program\, both delivered in one day. This instructor-led virtual learning is currently available at no charge to employees of the NS Continuing Care Sector (long-term care\, residential care facilities and home supports). \nFor general inquiries please contact the Council at admin@hcsc.ca \nWant to access this training without qualifying for free admission? Contact the Council at the email above and ask about availability for paid admission. \n  \n* Please note that each organization may sign-up a maximum of 4 employees per program (e.g.\, per TWM event)
URL:https://hccwsc.ca/event/the-working-mind-twm-employee-program-8/
ORGANIZER;CN="Health + Community Care Workforce Sector Council":MAILTO:admin@hcsc.ca
END:VEVENT
BEGIN:VEVENT
DTSTART;TZID=America/Halifax:20251209T093000
DTEND;TZID=America/Halifax:20251209T150000
DTSTAMP:20260424T193208
CREATED:20250929T223424Z
LAST-MODIFIED:20250929T223527Z
UID:2319-1765272600-1765292400@hccwsc.ca
SUMMARY:The Working Mind (TWM) – Employee Program
DESCRIPTION:Important: Before completing your registration for this course\, please ensure you have obtained approval from your immediate supervisor. By proceeding with the registration\, you confirm that you have secured the necessary authorization. \nThe Working Mind (TWM) training is an evidence-based mental health program administered by Opening Minds\, a subsidiary of the Mental Health Commission of Canada. You can view the Opening Minds website here. \nThe overall goal of the training is to help decrease stigma\, build resiliency and encourage healthy conversations about mental well-being in Canadian workplaces. We offer both the Employee and the Manager/People Leader versions of the program. Manager – one\, 7 hour session; Employees – 5.5 hour program\, both delivered in one day. This instructor-led virtual learning is currently available at no charge to employees of the NS Continuing Care Sector (long-term care\, residential care facilities and home supports). \nFor general inquiries please contact the Council at admin@hcsc.ca \nWant to access this training without qualifying for free admission? Contact the Council at the email above and ask about availability for paid admission. \n  \n* Please note that each organization may sign-up a maximum of 4 employees per program (e.g.\, per TWM event)
URL:https://hccwsc.ca/event/the-working-mind-twm-employee-program-9/
ORGANIZER;CN="Health + Community Care Workforce Sector Council":MAILTO:admin@hcsc.ca
END:VEVENT
BEGIN:VEVENT
DTSTART;TZID=America/Halifax:20251211T090000
DTEND;TZID=America/Halifax:20251211T163000
DTSTAMP:20260424T193208
CREATED:20251003T002307Z
LAST-MODIFIED:20251003T002307Z
UID:2460-1765443600-1765470600@hccwsc.ca
SUMMARY:Understanding and Managing Aggressive Behaviour (UMAB) - December 11th
DESCRIPTION:Important: Before completing your registration for this course\, please ensure you have obtained approval from your immediate supervisor. By proceeding with the registration\, you confirm that you have secured the necessary authorization. \nHy ‘N’ Hancement Consulting Inc. is the company that provides Understanding and Managing Aggressive Behaviour (UMAB Canada). UMAB was created to meet the safety needs of both service providers and the individuals they support. You can view the Hy ‘N’ Hancement Consulting Inc. website here. \nThis instructor-led virtual learning is currently available at no charge to employees of the NS Continuing Care Sector (long-term care\, residential care facilities and home supports). \nFor general inquiries\, please contact the Council at admin@hcsc.ca \nWant to access this training without qualifying for free admission? Contact the Council at the email above and ask about availability for paid admission. \nPlease note that each organization may sign up a maximum of 4 employees per program.
URL:https://hccwsc.ca/event/understanding-and-managing-aggressive-behaviour-umab-december-11th/
ORGANIZER;CN="Health + Community Care Workforce Sector Council":MAILTO:admin@hcsc.ca
END:VEVENT
BEGIN:VEVENT
DTSTART;TZID=America/Halifax:20251218T090000
DTEND;TZID=America/Halifax:20251218T163000
DTSTAMP:20260424T193208
CREATED:20251003T002354Z
LAST-MODIFIED:20251003T002354Z
UID:2463-1766048400-1766075400@hccwsc.ca
SUMMARY:Understanding and Managing Aggressive Behaviour (UMAB) - December 18th
DESCRIPTION:Important: Before completing your registration for this course\, please ensure you have obtained approval from your immediate supervisor. By proceeding with the registration\, you confirm that you have secured the necessary authorization. \nHy ‘N’ Hancement Consulting Inc. is the company that provides Understanding and Managing Aggressive Behaviour (UMAB Canada). UMAB was created to meet the safety needs of both service providers and the individuals they support. You can view the Hy ‘N’ Hancement Consulting Inc. website here. \nThis instructor-led virtual learning is currently available at no charge to employees of the NS Continuing Care Sector (long-term care\, residential care facilities and home supports). \nFor general inquiries\, please contact the Council at admin@hcsc.ca \nWant to access this training without qualifying for free admission? Contact the Council at the email above and ask about availability for paid admission. \nPlease note that each organization may sign up a maximum of 4 employees per program.
URL:https://hccwsc.ca/event/understanding-and-managing-aggressive-behaviour-umab-december-18th/
ORGANIZER;CN="Health + Community Care Workforce Sector Council":MAILTO:admin@hcsc.ca
END:VEVENT
END:VCALENDAR