BEGIN:VCALENDAR
VERSION:2.0
PRODID:-//Health + Community Care Workforce Sector Council - ECPv6.15.20//NONSGML v1.0//EN
CALSCALE:GREGORIAN
METHOD:PUBLISH
X-WR-CALNAME:Health + Community Care Workforce Sector Council
X-ORIGINAL-URL:https://hccwsc.ca
X-WR-CALDESC:Events for Health + Community Care Workforce Sector Council
REFRESH-INTERVAL;VALUE=DURATION:PT1H
X-Robots-Tag:noindex
X-PUBLISHED-TTL:PT1H
BEGIN:VTIMEZONE
TZID:America/Halifax
BEGIN:DAYLIGHT
TZOFFSETFROM:-0400
TZOFFSETTO:-0300
TZNAME:ADT
DTSTART:20240310T060000
END:DAYLIGHT
BEGIN:STANDARD
TZOFFSETFROM:-0300
TZOFFSETTO:-0400
TZNAME:AST
DTSTART:20241103T050000
END:STANDARD
BEGIN:DAYLIGHT
TZOFFSETFROM:-0400
TZOFFSETTO:-0300
TZNAME:ADT
DTSTART:20250309T060000
END:DAYLIGHT
BEGIN:STANDARD
TZOFFSETFROM:-0300
TZOFFSETTO:-0400
TZNAME:AST
DTSTART:20251102T050000
END:STANDARD
BEGIN:DAYLIGHT
TZOFFSETFROM:-0400
TZOFFSETTO:-0300
TZNAME:ADT
DTSTART:20260308T060000
END:DAYLIGHT
BEGIN:STANDARD
TZOFFSETFROM:-0300
TZOFFSETTO:-0400
TZNAME:AST
DTSTART:20261101T050000
END:STANDARD
END:VTIMEZONE
BEGIN:VEVENT
DTSTART;TZID=America/Halifax:20251015T093000
DTEND;TZID=America/Halifax:20251015T153000
DTSTAMP:20260424T222305
CREATED:20250929T223549Z
LAST-MODIFIED:20251015T180319Z
UID:2309-1760520600-1760542200@hccwsc.ca
SUMMARY:The Working Mind (TWM) – Employee Program
DESCRIPTION:Important: Before completing your registration for this course\, please ensure you have obtained approval from your immediate supervisor. By proceeding with the registration\, you confirm that you have secured the necessary authorization. \nThe Working Mind (TWM) training is an evidence-based mental health program administered by Opening Minds\, a subsidiary of the Mental Health Commission of Canada. You can view the Opening Minds website here. \nThe overall goal of the training is to help decrease stigma\, build resiliency and encourage healthy conversations about mental well-being in Canadian workplaces. We offer both the Employee and the Manager/People Leader versions of the program. Manager – one\, 7 hour session; Employees – 5.5 hour program\, both delivered in one day. This instructor-led virtual learning is currently available at no charge to employees of the NS Continuing Care Sector (long-term care\, residential care facilities and home supports). \nFor general inquiries please contact the Council at admin@hcsc.ca \nWant to access this training without qualifying for free admission? Contact the Council at the email above and ask about availability for paid admission. \n  \n* Please note that each organization may sign-up a maximum of 4 employees per program (e.g.\, per TWM event)
URL:https://hccwsc.ca/event/the-working-mind-twm-employee-program-10/
ORGANIZER;CN="Health + Community Care Workforce Sector Council":MAILTO:admin@hcsc.ca
END:VEVENT
BEGIN:VEVENT
DTSTART;TZID=America/Halifax:20251021T090000
DTEND;TZID=America/Halifax:20251021T160000
DTSTAMP:20260424T222305
CREATED:20250929T192723Z
LAST-MODIFIED:20250929T192723Z
UID:2323-1761037200-1761062400@hccwsc.ca
SUMMARY:The Working Mind (TWM) – Manager Program
DESCRIPTION:Important: Before completing your registration for this course\, please ensure you have obtained approval from your immediate supervisor. By proceeding with the registration\, you confirm that you have secured the necessary authorization. \nThe Working Mind (TWM) training is an evidence-based mental health program administered by Opening Minds\, a subsidiary of the Mental Health Commission of Canada. You can view the Opening Minds website here. \nThe overall goal of the training is to help decrease stigma\, build resiliency and encourage healthy conversations about mental well-being in Canadian workplaces. We offer both the Employee and the Manager/People Leader versions of the program. Manager – one\, 7 hour session; Employees – 5.5 hour program\, both delivered in one day. This instructor-led virtual learning is currently available at no charge to employees of the NS Continuing Care Sector (long-term care\, residential care facilities and home supports). \nFor general inquiries please contact the Council at admin@hcsc.ca \nWant to access this training without qualifying for free admission? Contact the Council at the email above and ask about availability for paid admission. \n  \n* Please note that each organization may sign-up a maximum of 4 employees per program (e.g.\, per TWM event)
URL:https://hccwsc.ca/event/the-working-mind-twm-manager-program-5/
ORGANIZER;CN="Health + Community Care Workforce Sector Council":MAILTO:admin@hcsc.ca
END:VEVENT
BEGIN:VEVENT
DTSTART;TZID=America/Halifax:20251022T090000
DTEND;TZID=America/Halifax:20251022T160000
DTSTAMP:20260424T222305
CREATED:20250929T181204Z
LAST-MODIFIED:20250929T181204Z
UID:2292-1761123600-1761148800@hccwsc.ca
SUMMARY:Mental Health First Aid (MHFA) - October 22nd
DESCRIPTION:IMPORTANT: You will receive reminder emails prior to your training date\, containing useful information and any necessary course materials. The Council recommends that you add the event to your calendar upon signing up. The Calendar invite found on this page will contain the event title\, details\, along with a start and end time and can be added to your calendar with just a few clicks! \nMental Health First Aid (MHFA) is a training program developed by Opening Minds\, a part of the Mental Health Commission of Canada. The training is delivered by the Council via an e-learning component and a virtual session led by the Council’s in-house instructors.  Upon registering for the program you will receive some introductory information via email. \n* Please note that each organization may sign-up a maximum of 4 employees per program \n** If you are registering yourself for the program\, please ensure that you have your managers permission to attend prior to registering
URL:https://hccwsc.ca/event/mental-health-first-aid-mhfa-october-22nd/
ORGANIZER;CN="Health + Community Care Workforce Sector Council":MAILTO:admin@hcsc.ca
END:VEVENT
BEGIN:VEVENT
DTSTART;TZID=America/Halifax:20251023T090000
DTEND;TZID=America/Halifax:20251023T163000
DTSTAMP:20260424T222305
CREATED:20251003T001925Z
LAST-MODIFIED:20251003T001925Z
UID:2282-1761210000-1761237000@hccwsc.ca
SUMMARY:Understanding and Managing Aggressive Behaviour (UMAB) - October 23rd
DESCRIPTION:Important: Before completing your registration for this course\, please ensure you have obtained approval from your immediate supervisor. By proceeding with the registration\, you confirm that you have secured the necessary authorization. \nHy ‘N’ Hancement Consulting Inc. is the company that provides Understanding and Managing Aggressive Behaviour (UMAB Canada). UMAB was created to meet the safety needs of both service providers and the individuals they support. You can view the Hy ‘N’ Hancement Consulting Inc. website here. \nThis instructor-led virtual learning is currently available at no charge to employees of the NS Continuing Care Sector (long-term care\, residential care facilities and home supports). \nFor general inquiries\, please contact the Council at admin@hcsc.ca \nWant to access this training without qualifying for free admission? Contact the Council at the email above and ask about availability for paid admission. \nPlease note that each organization may sign up a maximum of 4 employees per program.
URL:https://hccwsc.ca/event/understanding-and-managing-aggressive-behaviour-umab-october-23rd/
ORGANIZER;CN="Health + Community Care Workforce Sector Council":MAILTO:admin@hcsc.ca
END:VEVENT
BEGIN:VEVENT
DTSTART;TZID=America/Halifax:20251029T090000
DTEND;TZID=America/Halifax:20251029T160000
DTSTAMP:20260424T222305
CREATED:20250929T181556Z
LAST-MODIFIED:20250929T181556Z
UID:2295-1761728400-1761753600@hccwsc.ca
SUMMARY:Mental Health First Aid (MHFA) - October 29th
DESCRIPTION:IMPORTANT: You will receive reminder emails prior to your training date\, containing useful information and any necessary course materials. The Council recommends that you add the event to your calendar upon signing up. The Calendar invite found on this page will contain the event title\, details\, along with a start and end time and can be added to your calendar with just a few clicks! \nMental Health First Aid (MHFA) is a training program developed by Opening Minds\, a part of the Mental Health Commission of Canada. The training is delivered by the Council via an e-learning component and a virtual session led by the Council’s in-house instructors.  Upon registering for the program you will receive some introductory information via email. \n* Please note that each organization may sign-up a maximum of 4 employees per program \n** If you are registering yourself for the program\, please ensure that you have your managers permission to attend prior to registering
URL:https://hccwsc.ca/event/mental-health-first-aid-mhfa-october-29th/
ORGANIZER;CN="Health + Community Care Workforce Sector Council":MAILTO:admin@hcsc.ca
END:VEVENT
BEGIN:VEVENT
DTSTART;TZID=America/Halifax:20251030T090000
DTEND;TZID=America/Halifax:20251030T163000
DTSTAMP:20260424T222305
CREATED:20251003T001523Z
LAST-MODIFIED:20251003T001523Z
UID:2451-1761814800-1761841800@hccwsc.ca
SUMMARY:Understanding and Managing Aggressive Behaviour (UMAB) - October 30th
DESCRIPTION:Important: Before completing your registration for this course\, please ensure you have obtained approval from your immediate supervisor. By proceeding with the registration\, you confirm that you have secured the necessary authorization. \nHy ‘N’ Hancement Consulting Inc. is the company that provides Understanding and Managing Aggressive Behaviour (UMAB Canada). UMAB was created to meet the safety needs of both service providers and the individuals they support. You can view the Hy ‘N’ Hancement Consulting Inc. website here. \nThis instructor-led virtual learning is currently available at no charge to employees of the NS Continuing Care Sector (long-term care\, residential care facilities and home supports). \nFor general inquiries\, please contact the Council at admin@hcsc.ca \nWant to access this training without qualifying for free admission? Contact the Council at the email above and ask about availability for paid admission. \nPlease note that each organization may sign up a maximum of 4 employees per program.
URL:https://hccwsc.ca/event/understanding-and-managing-aggressive-behaviour-umab-october-30th/
ORGANIZER;CN="Health + Community Care Workforce Sector Council":MAILTO:admin@hcsc.ca
END:VEVENT
END:VCALENDAR