BEGIN:VCALENDAR
VERSION:2.0
PRODID:-//Health + Community Care Workforce Sector Council - ECPv6.15.20//NONSGML v1.0//EN
CALSCALE:GREGORIAN
METHOD:PUBLISH
X-WR-CALNAME:Health + Community Care Workforce Sector Council
X-ORIGINAL-URL:https://hccwsc.ca
X-WR-CALDESC:Events for Health + Community Care Workforce Sector Council
REFRESH-INTERVAL;VALUE=DURATION:PT1H
X-Robots-Tag:noindex
X-PUBLISHED-TTL:PT1H
BEGIN:VTIMEZONE
TZID:America/Halifax
BEGIN:DAYLIGHT
TZOFFSETFROM:-0400
TZOFFSETTO:-0300
TZNAME:ADT
DTSTART:20250309T060000
END:DAYLIGHT
BEGIN:STANDARD
TZOFFSETFROM:-0300
TZOFFSETTO:-0400
TZNAME:AST
DTSTART:20251102T050000
END:STANDARD
BEGIN:DAYLIGHT
TZOFFSETFROM:-0400
TZOFFSETTO:-0300
TZNAME:ADT
DTSTART:20260308T060000
END:DAYLIGHT
BEGIN:STANDARD
TZOFFSETFROM:-0300
TZOFFSETTO:-0400
TZNAME:AST
DTSTART:20261101T050000
END:STANDARD
BEGIN:DAYLIGHT
TZOFFSETFROM:-0400
TZOFFSETTO:-0300
TZNAME:ADT
DTSTART:20270314T060000
END:DAYLIGHT
BEGIN:STANDARD
TZOFFSETFROM:-0300
TZOFFSETTO:-0400
TZNAME:AST
DTSTART:20271107T050000
END:STANDARD
END:VTIMEZONE
BEGIN:VEVENT
DTSTART;TZID=America/Halifax:20260401T093000
DTEND;TZID=America/Halifax:20260401T150000
DTSTAMP:20260425T072318
CREATED:20260313T071017Z
LAST-MODIFIED:20260316T131415Z
UID:3962-1775035800-1775055600@hccwsc.ca
SUMMARY:The Working Mind (TWM) – Employee Program
DESCRIPTION:Important: Before completing your registration for this course\, please ensure you have obtained approval from your immediate supervisor. By proceeding with the registration\, you confirm that you have secured the necessary authorization. \nThe Working Mind (TWM) training is an evidence-based mental health program administered by Opening Minds\, a subsidiary of the Mental Health Commission of Canada. You can view the Opening Minds website here. \nThe overall goal of the training is to help decrease stigma\, build resiliency and encourage healthy conversations about mental well-being in Canadian workplaces. We offer both the Employee and the Manager/People Leader versions of the program. Manager – one\, 7 hour session; Employees – 5.5 hour program\, both delivered in one day. This instructor-led virtual learning is currently available at no charge to employees of the NS Continuing Care Sector (long-term care\, residential care facilities and home supports). \nFor general inquiries please contact the Council at admin@hcsc.ca \nWant to access this training without qualifying for free admission? Contact the Council at the email above and ask about availability for paid admission. \n  \n* Please note that each organization may sign-up a maximum of 4 employees per program (e.g.\, per TWM event)
URL:https://hccwsc.ca/event/the-working-mind-twm-employee-program-16/
ORGANIZER;CN="Health + Community Care Workforce Sector Council":MAILTO:admin@hcsc.ca
END:VEVENT
BEGIN:VEVENT
DTSTART;TZID=America/Halifax:20260402T090000
DTEND;TZID=America/Halifax:20260402T160000
DTSTAMP:20260425T072318
CREATED:20260313T071214Z
LAST-MODIFIED:20260316T125505Z
UID:3971-1775120400-1775145600@hccwsc.ca
SUMMARY:The Working Mind (TWM) – Manager Program
DESCRIPTION:Important: Before completing your registration for this course\, please ensure you have obtained approval from your immediate supervisor. By proceeding with the registration\, you confirm that you have secured the necessary authorization. \nThe Working Mind (TWM) training is an evidence-based mental health program administered by Opening Minds\, a subsidiary of the Mental Health Commission of Canada. You can view the Opening Minds website here. \nThe overall goal of the training is to help decrease stigma\, build resiliency and encourage healthy conversations about mental well-being in Canadian workplaces. We offer both the Employee and the Manager/People Leader versions of the program. Manager– one\, 7 hour session; Employees – 5.5 hour program\, both delivered in one day. This instructor-led virtual learning is currently available at no charge to employees of the NS Continuing Care Sector (long-term care\, residential care facilities and home supports). \nFor general inquiries please contact the Council at admin@hcsc.ca \nWant to access this training without qualifying for free admission? Contact the Council at the email above and ask about availability for paid admission. \n  \n* Please note that each organization may sign-up a maximum of 4 employees per program (e.g.\, per TWM event)
URL:https://hccwsc.ca/event/the-working-mind-twm-manager-program-8/
ORGANIZER;CN="Health + Community Care Workforce Sector Council":MAILTO:admin@hcsc.ca
END:VEVENT
BEGIN:VEVENT
DTSTART;TZID=America/Halifax:20260407T093000
DTEND;TZID=America/Halifax:20260407T153000
DTSTAMP:20260425T072318
CREATED:20260313T072320Z
LAST-MODIFIED:20260316T131927Z
UID:3986-1775554200-1775575800@hccwsc.ca
SUMMARY:Mental Health First Aid (MHFA) Certificate – April 7th and 8th
DESCRIPTION:IMPORTANT: This is a two day training course\, in order to receive your certificate you must attend both days (9:30am – 3:30pm). Additionally\, You will receive reminder emails prior to your training date\, containing useful information and any necessary course materials. The Council recommends that you add the event to your calendar upon signing up. \nMental Health First Aid (MHFA) training provides the knowledge\, skills\, and attitudes to support a person who may be experiencing a decline in their mental well-being\, a mental health or substance use crisis until professional help is available. The practical skills of MHFA help you develop the confidence and peace of mind knowing you can support those around you\, and your ability to self-care and prioritize your well-being while supporting others. \nMHFA Certification is an innovative and leading-edge program in the sector. Mental Health First Aid now offers official certification. This in-depth two-day course\, upon completion and assessment\, provides participants with increased mental health awareness\, enhanced mental health\, improved confidence to help\, and decreased mental health stigma. \nImportant Notice: To support meaningful engagement and an effective learning experience\, participants are required to join the course using a device with functioning audio and a camera. Being on camera throughout the session supports full participation and interactive learning. If a participant does not have access to a camera-enabled device or a suitable space\, their employer will need to provide a device that has a camera and audio to support their staff’s professional growth. Thank you for helping us create a positive and fully engaged training environment. \n* Please note that each organization may sign-up a maximum of 4 employees per program \n** If you are registering yourself for the program\, please ensure that you have your managers permission to attend prior to registering
URL:https://hccwsc.ca/event/mental-health-first-aid-mhfa-certificate-april-22nd-and-23rd/
ORGANIZER;CN="Health + Community Care Workforce Sector Council":MAILTO:admin@hcsc.ca
END:VEVENT
BEGIN:VEVENT
DTSTART;TZID=America/Halifax:20260408T090000
DTEND;TZID=America/Halifax:20260408T163000
DTSTAMP:20260425T072318
CREATED:20260313T073105Z
LAST-MODIFIED:20260313T073105Z
UID:3993-1775638800-1775665800@hccwsc.ca
SUMMARY:Understanding and Managing Aggressive Behaviour (UMAB)
DESCRIPTION:Important: Before completing your registration for this course\, please ensure you have obtained approval from your immediate supervisor. By proceeding with the registration\, you confirm that you have secured the necessary authorization. \nHy ‘N’ Hancement Consulting Inc. is the company that provides Understanding and Managing Aggressive Behaviour (UMAB Canada). UMAB was created to meet the safety needs of both service providers and the individuals they support. You can view the Hy ‘N’ Hancement Consulting Inc. website here. \nThis instructor-led virtual learning is currently available at no charge to employees of the NS Continuing Care Sector (long-term care\, residential care facilities and home supports). \nFor general inquiries\, please contact the Council at admin@hcsc.ca \nImportant Notice: To support meaningful engagement and an effective learning experience\, participants are required to join the course using a device with functioning audio and a camera.\nBeing on camera throughout the session supports full participation and interactive learning. If a participant does not have access to a camera-enabled device or a suitable space\, their employer will need to provide a device that has a camera and audio to support their staff’s professional growth. Thank you for helping us create a positive and fully engaged training environment. \n  \nWant to access this training without qualifying for free admission? Contact the Council at the email above and ask about availability for paid admission. \nPlease note that each organization may sign up a maximum of 4 employees per program.
URL:https://hccwsc.ca/event/understanding-and-managing-aggressive-behaviour-umab/
ORGANIZER;CN="Health + Community Care Workforce Sector Council":MAILTO:admin@hcsc.ca
END:VEVENT
BEGIN:VEVENT
DTSTART;TZID=America/Halifax:20260409T093000
DTEND;TZID=America/Halifax:20260409T153000
DTSTAMP:20260425T072318
CREATED:20260313T071533Z
LAST-MODIFIED:20260313T071533Z
UID:3977-1775727000-1775748600@hccwsc.ca
SUMMARY:Mental Health First Aid (MHFA) Essentials
DESCRIPTION:IMPORTANT: You will receive reminder emails prior to your training date\, containing useful information and any necessary course materials. The Council recommends that you add the event to your calendar upon signing up. \nMental Health First Aid (MHFA) training provides the knowledge\, skills\, and attitudes to support a person who may be experiencing a decline in their mental well-being\, a mental health or substance use crisis until professional help is available. The practical skills of MHFA help you develop the confidence and peace of mind knowing you can support those around you\, and your ability to self-care and prioritize your well-being while supporting others. \nMHFA Essentials is a suite of courses focused on core knowledge and practical skills\, offering a streamlined one-day course and adaptations for unique populations and specific roles. It provides a strong foundation in MHFA principles without formal assessment or certification\, making it an ideal option for individuals\, teams\, or communities seeking meaningful\, time-efficient training. \nImportant Notice: To support meaningful engagement and an effective learning experience\, participants are required to join the course using a device with functioning audio and a camera. Being on camera throughout the session supports full participation and interactive learning. If a participant does not have access to a camera-enabled device or a suitable space\, their employer will need to provide a device that has a camera and audio to support their staff’s professional growth. Thank you for helping us create a positive and fully engaged training environment. \n* Please note that each organization may sign-up a maximum of 4 employees per program \n** If you are registering yourself for the program\, please ensure that you have your managers permission to attend prior to registering
URL:https://hccwsc.ca/event/mental-health-first-aid-mhfa-essentials/
ORGANIZER;CN="Health + Community Care Workforce Sector Council":MAILTO:admin@hcsc.ca
END:VEVENT
BEGIN:VEVENT
DTSTART;TZID=America/Halifax:20260416T090000
DTEND;TZID=America/Halifax:20260416T163000
DTSTAMP:20260425T072318
CREATED:20260313T073127Z
LAST-MODIFIED:20260313T073127Z
UID:3997-1776330000-1776357000@hccwsc.ca
SUMMARY:Understanding and Managing Aggressive Behaviour (UMAB)
DESCRIPTION:Important: Before completing your registration for this course\, please ensure you have obtained approval from your immediate supervisor. By proceeding with the registration\, you confirm that you have secured the necessary authorization. \nHy ‘N’ Hancement Consulting Inc. is the company that provides Understanding and Managing Aggressive Behaviour (UMAB Canada). UMAB was created to meet the safety needs of both service providers and the individuals they support. You can view the Hy ‘N’ Hancement Consulting Inc. website here. \nThis instructor-led virtual learning is currently available at no charge to employees of the NS Continuing Care Sector (long-term care\, residential care facilities and home supports). \nFor general inquiries\, please contact the Council at admin@hcsc.ca \nImportant Notice: To support meaningful engagement and an effective learning experience\, participants are required to join the course using a device with functioning audio and a camera.\nBeing on camera throughout the session supports full participation and interactive learning. If a participant does not have access to a camera-enabled device or a suitable space\, their employer will need to provide a device that has a camera and audio to support their staff’s professional growth. Thank you for helping us create a positive and fully engaged training environment. \n  \nWant to access this training without qualifying for free admission? Contact the Council at the email above and ask about availability for paid admission. \nPlease note that each organization may sign up a maximum of 4 employees per program.
URL:https://hccwsc.ca/event/understanding-and-managing-aggressive-behaviour-umab-2/
ORGANIZER;CN="Health + Community Care Workforce Sector Council":MAILTO:admin@hcsc.ca
END:VEVENT
BEGIN:VEVENT
DTSTART;TZID=America/Halifax:20260421T090000
DTEND;TZID=America/Halifax:20260421T163000
DTSTAMP:20260425T072318
CREATED:20260313T073142Z
LAST-MODIFIED:20260313T073142Z
UID:4000-1776762000-1776789000@hccwsc.ca
SUMMARY:Understanding and Managing Aggressive Behaviour (UMAB)
DESCRIPTION:Important: Before completing your registration for this course\, please ensure you have obtained approval from your immediate supervisor. By proceeding with the registration\, you confirm that you have secured the necessary authorization. \nHy ‘N’ Hancement Consulting Inc. is the company that provides Understanding and Managing Aggressive Behaviour (UMAB Canada). UMAB was created to meet the safety needs of both service providers and the individuals they support. You can view the Hy ‘N’ Hancement Consulting Inc. website here. \nThis instructor-led virtual learning is currently available at no charge to employees of the NS Continuing Care Sector (long-term care\, residential care facilities and home supports). \nFor general inquiries\, please contact the Council at admin@hcsc.ca \nImportant Notice: To support meaningful engagement and an effective learning experience\, participants are required to join the course using a device with functioning audio and a camera.\nBeing on camera throughout the session supports full participation and interactive learning. If a participant does not have access to a camera-enabled device or a suitable space\, their employer will need to provide a device that has a camera and audio to support their staff’s professional growth. Thank you for helping us create a positive and fully engaged training environment. \n  \nWant to access this training without qualifying for free admission? Contact the Council at the email above and ask about availability for paid admission. \nPlease note that each organization may sign up a maximum of 4 employees per program.
URL:https://hccwsc.ca/event/understanding-and-managing-aggressive-behaviour-umab-4/
ORGANIZER;CN="Health + Community Care Workforce Sector Council":MAILTO:admin@hcsc.ca
END:VEVENT
BEGIN:VEVENT
DTSTART;TZID=America/Halifax:20260429T090000
DTEND;TZID=America/Halifax:20260429T163000
DTSTAMP:20260425T072318
CREATED:20260313T073135Z
LAST-MODIFIED:20260313T073135Z
UID:4003-1777453200-1777480200@hccwsc.ca
SUMMARY:Understanding and Managing Aggressive Behaviour (UMAB)
DESCRIPTION:Important: Before completing your registration for this course\, please ensure you have obtained approval from your immediate supervisor. By proceeding with the registration\, you confirm that you have secured the necessary authorization. \nHy ‘N’ Hancement Consulting Inc. is the company that provides Understanding and Managing Aggressive Behaviour (UMAB Canada). UMAB was created to meet the safety needs of both service providers and the individuals they support. You can view the Hy ‘N’ Hancement Consulting Inc. website here. \nThis instructor-led virtual learning is currently available at no charge to employees of the NS Continuing Care Sector (long-term care\, residential care facilities and home supports). \nFor general inquiries\, please contact the Council at admin@hcsc.ca \nImportant Notice: To support meaningful engagement and an effective learning experience\, participants are required to join the course using a device with functioning audio and a camera.\nBeing on camera throughout the session supports full participation and interactive learning. If a participant does not have access to a camera-enabled device or a suitable space\, their employer will need to provide a device that has a camera and audio to support their staff’s professional growth. Thank you for helping us create a positive and fully engaged training environment. \n  \nWant to access this training without qualifying for free admission? Contact the Council at the email above and ask about availability for paid admission. \nPlease note that each organization may sign up a maximum of 4 employees per program.
URL:https://hccwsc.ca/event/understanding-and-managing-aggressive-behaviour-umab-3/
ORGANIZER;CN="Health + Community Care Workforce Sector Council":MAILTO:admin@hcsc.ca
END:VEVENT
BEGIN:VEVENT
DTSTART;TZID=America/Halifax:20260506T090000
DTEND;TZID=America/Halifax:20260506T163000
DTSTAMP:20260425T072318
CREATED:20260313T073148Z
LAST-MODIFIED:20260423T135038Z
UID:4007-1778058000-1778085000@hccwsc.ca
SUMMARY:Understanding and Managing Aggressive Behaviour (UMAB)
DESCRIPTION:Important: Before completing your registration for this course\, please ensure you have obtained approval from your immediate supervisor. By proceeding with the registration\, you confirm that you have secured the necessary authorization. \nHy ‘N’ Hancement Consulting Inc. is the company that provides Understanding and Managing Aggressive Behaviour (UMAB Canada). UMAB was created to meet the safety needs of both service providers and the individuals they support. You can view the Hy ‘N’ Hancement Consulting Inc. website here. \nThis instructor-led virtual learning is currently available at no charge to employees of the NS Continuing Care Sector (long-term care\, residential care facilities and home supports). \nFor general inquiries\, please contact the Council at admin@hcsc.ca \nImportant Notice: To support meaningful engagement and an effective learning experience\, participants are required to join the course using a device with functioning audio and a camera.\nBeing on camera throughout the session supports full participation and interactive learning. If a participant does not have access to a camera-enabled device or a suitable space\, their employer will need to provide a device that has a camera and audio to support their staff’s professional growth. Thank you for helping us create a positive and fully engaged training environment. \n  \nWant to access this training without qualifying for free admission? Contact the Council at the email above and ask about availability for paid admission. \nPlease note that each organization may sign up a maximum of 4 employees per program.
URL:https://hccwsc.ca/event/understanding-and-managing-aggressive-behaviour-umab-5/
ORGANIZER;CN="Health + Community Care Workforce Sector Council":MAILTO:admin@hcsc.ca
END:VEVENT
BEGIN:VEVENT
DTSTART;TZID=America/Halifax:20260520T090000
DTEND;TZID=America/Halifax:20260520T163000
DTSTAMP:20260425T072318
CREATED:20260313T073207Z
LAST-MODIFIED:20260423T135207Z
UID:4013-1779267600-1779294600@hccwsc.ca
SUMMARY:Understanding and Managing Aggressive Behaviour (UMAB)
DESCRIPTION:Important: Before completing your registration for this course\, please ensure you have obtained approval from your immediate supervisor. By proceeding with the registration\, you confirm that you have secured the necessary authorization. \nHy ‘N’ Hancement Consulting Inc. is the company that provides Understanding and Managing Aggressive Behaviour (UMAB Canada). UMAB was created to meet the safety needs of both service providers and the individuals they support. You can view the Hy ‘N’ Hancement Consulting Inc. website here. \nThis instructor-led virtual learning is currently available at no charge to employees of the NS Continuing Care Sector (long-term care\, residential care facilities and home supports). \nFor general inquiries\, please contact the Council at admin@hcsc.ca \nImportant Notice: To support meaningful engagement and an effective learning experience\, participants are required to join the course using a device with functioning audio and a camera.\nBeing on camera throughout the session supports full participation and interactive learning. If a participant does not have access to a camera-enabled device or a suitable space\, their employer will need to provide a device that has a camera and audio to support their staff’s professional growth. Thank you for helping us create a positive and fully engaged training environment. \n  \nWant to access this training without qualifying for free admission? Contact the Council at the email above and ask about availability for paid admission. \nPlease note that each organization may sign up a maximum of 4 employees per program.
URL:https://hccwsc.ca/event/understanding-and-managing-aggressive-behaviour-umab-7/
ORGANIZER;CN="Health + Community Care Workforce Sector Council":MAILTO:admin@hcsc.ca
END:VEVENT
END:VCALENDAR