BEGIN:VCALENDAR
VERSION:2.0
PRODID:-//Health + Community Care Workforce Sector Council - ECPv6.15.20//NONSGML v1.0//EN
CALSCALE:GREGORIAN
METHOD:PUBLISH
X-ORIGINAL-URL:https://hccwsc.ca
X-WR-CALDESC:Events for Health + Community Care Workforce Sector Council
REFRESH-INTERVAL;VALUE=DURATION:PT1H
X-Robots-Tag:noindex
X-PUBLISHED-TTL:PT1H
BEGIN:VTIMEZONE
TZID:America/Halifax
BEGIN:DAYLIGHT
TZOFFSETFROM:-0400
TZOFFSETTO:-0300
TZNAME:ADT
DTSTART:20250309T060000
END:DAYLIGHT
BEGIN:STANDARD
TZOFFSETFROM:-0300
TZOFFSETTO:-0400
TZNAME:AST
DTSTART:20251102T050000
END:STANDARD
BEGIN:DAYLIGHT
TZOFFSETFROM:-0400
TZOFFSETTO:-0300
TZNAME:ADT
DTSTART:20260308T060000
END:DAYLIGHT
BEGIN:STANDARD
TZOFFSETFROM:-0300
TZOFFSETTO:-0400
TZNAME:AST
DTSTART:20261101T050000
END:STANDARD
BEGIN:DAYLIGHT
TZOFFSETFROM:-0400
TZOFFSETTO:-0300
TZNAME:ADT
DTSTART:20270314T060000
END:DAYLIGHT
BEGIN:STANDARD
TZOFFSETFROM:-0300
TZOFFSETTO:-0400
TZNAME:AST
DTSTART:20271107T050000
END:STANDARD
END:VTIMEZONE
BEGIN:VEVENT
DTSTART;TZID=America/Halifax:20260324T093000
DTEND;TZID=America/Halifax:20260324T153000
DTSTAMP:20260424T162726
CREATED:20251209T081756Z
LAST-MODIFIED:20260129T164704Z
UID:3320-1774344600-1774366200@hccwsc.ca
SUMMARY:Mental Health First Aid (MHFA) Certificate – March 24th and 25th
DESCRIPTION:IMPORTANT: This is a two day training course\, in order to receive your certificate you must attend both days (9:30am – 3:30pm). Additionally\, You will receive reminder emails prior to your training date\, containing useful information and any necessary course materials. The Council recommends that you add the event to your calendar upon signing up. \nMental Health First Aid (MHFA) training provides the knowledge\, skills\, and attitudes to support a person who may be experiencing a decline in their mental well-being\, a mental health or substance use crisis until professional help is available. The practical skills of MHFA help you develop the confidence and peace of mind knowing you can support those around you\, and your ability to self-care and prioritize your well-being while supporting others. \nMHFA Certification is an innovative and leading-edge program in the sector. Mental Health First Aid now offers official certification. This in-depth two-day course\, upon completion and assessment\, provides participants with increased mental health awareness\, enhanced mental health\, improved confidence to help\, and decreased mental health stigma. \nImportant Notice: To support meaningful engagement and an effective learning experience\, participants are required to join the course using a device with functioning audio and a camera. Being on camera throughout the session supports full participation and interactive learning. If a participant does not have access to a camera-enabled device or a suitable space\, their employer will need to provide a device that has a camera and audio to support their staff’s professional growth. Thank you for helping us create a positive and fully engaged training environment. \n* Please note that each organization may sign-up a maximum of 4 employees per program \n** If you are registering yourself for the program\, please ensure that you have your managers permission to attend prior to registering
URL:https://hccwsc.ca/event/mental-health-first-aid-mhfa-certificate-march-24th-and-25th/
ORGANIZER;CN="Health + Community Care Workforce Sector Council":MAILTO:admin@hcsc.ca
END:VEVENT
END:VCALENDAR