BEGIN:VCALENDAR
VERSION:2.0
PRODID:-//Health + Community Care Workforce Sector Council - ECPv6.15.20//NONSGML v1.0//EN
CALSCALE:GREGORIAN
METHOD:PUBLISH
X-ORIGINAL-URL:https://hccwsc.ca
X-WR-CALDESC:Events for Health + Community Care Workforce Sector Council
REFRESH-INTERVAL;VALUE=DURATION:PT1H
X-Robots-Tag:noindex
X-PUBLISHED-TTL:PT1H
BEGIN:VTIMEZONE
TZID:America/Halifax
BEGIN:DAYLIGHT
TZOFFSETFROM:-0400
TZOFFSETTO:-0300
TZNAME:ADT
DTSTART:20240310T060000
END:DAYLIGHT
BEGIN:STANDARD
TZOFFSETFROM:-0300
TZOFFSETTO:-0400
TZNAME:AST
DTSTART:20241103T050000
END:STANDARD
BEGIN:DAYLIGHT
TZOFFSETFROM:-0400
TZOFFSETTO:-0300
TZNAME:ADT
DTSTART:20250309T060000
END:DAYLIGHT
BEGIN:STANDARD
TZOFFSETFROM:-0300
TZOFFSETTO:-0400
TZNAME:AST
DTSTART:20251102T050000
END:STANDARD
BEGIN:DAYLIGHT
TZOFFSETFROM:-0400
TZOFFSETTO:-0300
TZNAME:ADT
DTSTART:20260308T060000
END:DAYLIGHT
BEGIN:STANDARD
TZOFFSETFROM:-0300
TZOFFSETTO:-0400
TZNAME:AST
DTSTART:20261101T050000
END:STANDARD
END:VTIMEZONE
BEGIN:VEVENT
DTSTART;TZID=America/Halifax:20251218T090000
DTEND;TZID=America/Halifax:20251218T163000
DTSTAMP:20260424T205943
CREATED:20251003T002354Z
LAST-MODIFIED:20251003T002354Z
UID:2463-1766048400-1766075400@hccwsc.ca
SUMMARY:Understanding and Managing Aggressive Behaviour (UMAB) - December 18th
DESCRIPTION:Important: Before completing your registration for this course\, please ensure you have obtained approval from your immediate supervisor. By proceeding with the registration\, you confirm that you have secured the necessary authorization. \nHy ‘N’ Hancement Consulting Inc. is the company that provides Understanding and Managing Aggressive Behaviour (UMAB Canada). UMAB was created to meet the safety needs of both service providers and the individuals they support. You can view the Hy ‘N’ Hancement Consulting Inc. website here. \nThis instructor-led virtual learning is currently available at no charge to employees of the NS Continuing Care Sector (long-term care\, residential care facilities and home supports). \nFor general inquiries\, please contact the Council at admin@hcsc.ca \nWant to access this training without qualifying for free admission? Contact the Council at the email above and ask about availability for paid admission. \nPlease note that each organization may sign up a maximum of 4 employees per program.
URL:https://hccwsc.ca/event/understanding-and-managing-aggressive-behaviour-umab-december-18th/
ORGANIZER;CN="Health + Community Care Workforce Sector Council":MAILTO:admin@hcsc.ca
END:VEVENT
END:VCALENDAR