BEGIN:VCALENDAR
VERSION:2.0
PRODID:-//Health + Community Care Workforce Sector Council - ECPv6.15.20//NONSGML v1.0//EN
CALSCALE:GREGORIAN
METHOD:PUBLISH
X-WR-CALNAME:Health + Community Care Workforce Sector Council
X-ORIGINAL-URL:https://hccwsc.ca
X-WR-CALDESC:Events for Health + Community Care Workforce Sector Council
REFRESH-INTERVAL;VALUE=DURATION:PT1H
X-Robots-Tag:noindex
X-PUBLISHED-TTL:PT1H
BEGIN:VTIMEZONE
TZID:America/Halifax
BEGIN:DAYLIGHT
TZOFFSETFROM:-0400
TZOFFSETTO:-0300
TZNAME:ADT
DTSTART:20240310T060000
END:DAYLIGHT
BEGIN:STANDARD
TZOFFSETFROM:-0300
TZOFFSETTO:-0400
TZNAME:AST
DTSTART:20241103T050000
END:STANDARD
BEGIN:DAYLIGHT
TZOFFSETFROM:-0400
TZOFFSETTO:-0300
TZNAME:ADT
DTSTART:20250309T060000
END:DAYLIGHT
BEGIN:STANDARD
TZOFFSETFROM:-0300
TZOFFSETTO:-0400
TZNAME:AST
DTSTART:20251102T050000
END:STANDARD
BEGIN:DAYLIGHT
TZOFFSETFROM:-0400
TZOFFSETTO:-0300
TZNAME:ADT
DTSTART:20260308T060000
END:DAYLIGHT
BEGIN:STANDARD
TZOFFSETFROM:-0300
TZOFFSETTO:-0400
TZNAME:AST
DTSTART:20261101T050000
END:STANDARD
END:VTIMEZONE
BEGIN:VEVENT
DTSTART;TZID=America/Halifax:20251106T090000
DTEND;TZID=America/Halifax:20251106T160000
DTSTAMP:20260424T222212
CREATED:20250929T185803Z
LAST-MODIFIED:20250929T185803Z
UID:2303-1762419600-1762444800@hccwsc.ca
SUMMARY:Mental Health First Aid (MHFA) - November 6th
DESCRIPTION:IMPORTANT: You will receive reminder emails prior to your training date\, containing useful information and any necessary course materials. The Council recommends that you add the event to your calendar upon signing up. The Calendar invite found on this page will contain the event title\, details\, along with a start and end time and can be added to your calendar with just a few clicks! \nMental Health First Aid (MHFA) is a training program developed by Opening Minds\, a part of the Mental Health Commission of Canada. The training is delivered by the Council via an e-learning component and a virtual session led by the Council’s in-house instructors.  Upon registering for the program you will receive some introductory information via email. \n* Please note that each organization may sign-up a maximum of 4 employees per program \n** If you are registering yourself for the program\, please ensure that you have your managers permission to attend prior to registering
URL:https://hccwsc.ca/event/mental-health-first-aid-mhfa-november-6th/
ORGANIZER;CN="Health + Community Care Workforce Sector Council":MAILTO:admin@hcsc.ca
END:VEVENT
END:VCALENDAR